BEGIN:VCALENDAR
VERSION:2.0
PRODID:-//IP.Board Calendar 4.5.4//EN
METHOD:PUBLISH
CALSCALE:GREGORIAN
X-WR-CALNAME:General Information
BEGIN:VTIMEZONE
TZID:Europe/London
TZURL:http://tzurl.org/zoneinfo/Europe/London
X-LIC-LOCATION:Europe/London
BEGIN:DAYLIGHT
TZOFFSETFROM:+0000
TZOFFSETTO:+0100
TZNAME:BST
DTSTART:20200329T020000Z
RRULE:FREQ=YEARLY;BYMONTH=3;BYDAY=-1SU
END:DAYLIGHT
BEGIN:STANDARD
TZOFFSETFROM:+0100
TZOFFSETTO:+0000
TZNAME:GMT
DTSTART:20201025T020000Z
RRULE:FREQ=YEARLY;BYMONTH=10;BYDAY=-1SU
END:STANDARD
END:VTIMEZONE
BEGIN:VEVENT
SUMMARY:Happy birthday\, Rina!
DTSTAMP:20201112T161442Z
SEQUENCE:0
UID:37-4-d1077134ae48908c13b71a0233f476d3@www.rebornevo.com
ORGANIZER;CN="Ice Cream Sand Witch":admin@rebornevo.com
DESCRIPTION:\n\n	Rina-chan board \"All smiles\"! \n\n\n\n	 \n\n\n\n	\n
	\n\n	 \n\n\n\n	Rina's birthday this year is also during the same week as 
	her insert song in the anime\, Tsunagaru Connect!\n\n\n\n	 \n\n\n\n	\n		\
	n	\n\n\n\n	 \n\n
DTSTART:20201113T050000Z
END:VEVENT
END:VCALENDAR
