BEGIN:VCALENDAR
VERSION:2.0
PRODID:-//IP.Board Calendar 4.5.4//EN
METHOD:PUBLISH
CALSCALE:GREGORIAN
X-WR-CALNAME:General Information
BEGIN:VTIMEZONE
TZID:Europe/London
TZURL:http://tzurl.org/zoneinfo/Europe/London
X-LIC-LOCATION:Europe/London
BEGIN:DAYLIGHT
TZOFFSETFROM:+0000
TZOFFSETTO:+0100
TZNAME:BST
DTSTART:20200329T020000Z
RRULE:FREQ=YEARLY;BYMONTH=3;BYDAY=-1SU
END:DAYLIGHT
BEGIN:STANDARD
TZOFFSETFROM:+0100
TZOFFSETTO:+0000
TZNAME:GMT
DTSTART:20201025T020000Z
RRULE:FREQ=YEARLY;BYMONTH=10;BYDAY=-1SU
END:STANDARD
END:VTIMEZONE
BEGIN:VEVENT
SUMMARY:Love Live! Nijigasaki HIgh School Idol Club: Anime
DTSTAMP:20200922T153126Z
SEQUENCE:0
UID:33-4-d1077134ae48908c13b71a0233f476d3@www.rebornevo.com
ORGANIZER;CN="Punkeev":admin@rebornevo.com
DESCRIPTION:\n\n	\n\n\n\n	 \n\n\n\n	https://www.crunchyroll.com/anime-n
	ews/2020/09/12-1/love-live-nijigasaki-high-school-idol-club-tv-anime-to-se
	t-stage-alight-october-3\n\n\n\n	 \n\n\n\n	 \n\n\n\n	http://www.lovelive
	-anime.jp/nijigasaki/worldwide/simulcast.php\n\n\n\n	 \n\n\n\n	 \n\n
DTSTART;VALUE=DATE:20201003
END:VEVENT
END:VCALENDAR
