BEGIN:VCALENDAR
VERSION:2.0
PRODID:-//IP.Board Calendar 4.5.4//EN
METHOD:PUBLISH
CALSCALE:GREGORIAN
X-WR-CALNAME:General Information
BEGIN:VTIMEZONE
TZID:Europe/London
TZURL:http://tzurl.org/zoneinfo/Europe/London
X-LIC-LOCATION:Europe/London
BEGIN:DAYLIGHT
TZOFFSETFROM:+0000
TZOFFSETTO:+0100
TZNAME:BST
DTSTART:20200329T020000Z
RRULE:FREQ=YEARLY;BYMONTH=3;BYDAY=-1SU
END:DAYLIGHT
BEGIN:STANDARD
TZOFFSETFROM:+0100
TZOFFSETTO:+0000
TZNAME:GMT
DTSTART:20201025T020000Z
RRULE:FREQ=YEARLY;BYMONTH=10;BYDAY=-1SU
END:STANDARD
END:VTIMEZONE
BEGIN:VEVENT
SUMMARY:Chika Takami's Birthday + Solo Concert Album Release!
DTSTAMP:20200719T004531Z
SEQUENCE:0
UID:26-4-d1077134ae48908c13b71a0233f476d3@www.rebornevo.com
ORGANIZER;CN="Pocky":admin@rebornevo.com
DESCRIPTION:\n	Don't forget to preorder if you haven't! (Currently up on
	 sites like cd-japan)\n\n	 \n
DTSTART;VALUE=DATE:20200801
END:VEVENT
END:VCALENDAR
