BEGIN:VCALENDAR
VERSION:2.0
PRODID:-//IP.Board Calendar 4.5.4//EN
METHOD:PUBLISH
CALSCALE:GREGORIAN
X-WR-CALNAME:General Information
BEGIN:VTIMEZONE
TZID:Europe/London
TZURL:http://tzurl.org/zoneinfo/Europe/London
X-LIC-LOCATION:Europe/London
BEGIN:DAYLIGHT
TZOFFSETFROM:+0000
TZOFFSETTO:+0100
TZNAME:BST
DTSTART:20200329T020000Z
RRULE:FREQ=YEARLY;BYMONTH=3;BYDAY=-1SU
END:DAYLIGHT
BEGIN:STANDARD
TZOFFSETFROM:+0100
TZOFFSETTO:+0000
TZNAME:GMT
DTSTART:20201025T020000Z
RRULE:FREQ=YEARLY;BYMONTH=10;BYDAY=-1SU
END:STANDARD
END:VTIMEZONE
BEGIN:VEVENT
SUMMARY:Saint Snow
DTSTAMP:20200531T211319Z
SEQUENCE:0
UID:21-4-d1077134ae48908c13b71a0233f476d3@www.rebornevo.com
ORGANIZER;CN="Ice Cream Sand Witch":admin@rebornevo.com
DESCRIPTION:\n\n	https://www.youtube.com/watch?v=9y9rE0XkxhQ (the link 
	could not be embedded to show as video because an error occurred on Youtub
	e)\n\n\n\n	 \n\n\n\n	Saint Snow will release an animated single on August
	 19\, and will also have 3 new songs! There will be a live stream on June 
	10 8 PM JST (7 AM EST).\n\n\n\n	 \n\n\n\n	https://www.timeanddate.com/cou
	ntdown/generic?iso=20200610T20&amp\;p0=248&amp\;msg=Saint+Snow&amp\;font=c
	ursive\n\n\n\n	 \n\n\n\n	https://www.timeanddate.com/worldclock/converter
	.html?iso=20200620T110000&amp\;p1=248\n\n
DTSTART:20200610T110000Z
END:VEVENT
END:VCALENDAR
