BEGIN:VCALENDAR
VERSION:2.0
PRODID:-//IP.Board Calendar 4.5.4//EN
METHOD:PUBLISH
CALSCALE:GREGORIAN
X-WR-CALNAME:General Information
BEGIN:VTIMEZONE
TZID:Europe/London
TZURL:http://tzurl.org/zoneinfo/Europe/London
X-LIC-LOCATION:Europe/London
BEGIN:DAYLIGHT
TZOFFSETFROM:+0000
TZOFFSETTO:+0100
TZNAME:BST
DTSTART:20180325T020000Z
RRULE:FREQ=YEARLY;BYMONTH=3;BYDAY=-1SU
END:DAYLIGHT
BEGIN:STANDARD
TZOFFSETFROM:+0100
TZOFFSETTO:+0000
TZNAME:GMT
DTSTART:20181028T020000Z
RRULE:FREQ=YEARLY;BYMONTH=10;BYDAY=-1SU
END:STANDARD
END:VTIMEZONE
BEGIN:VEVENT
SUMMARY:Rina-chan's Birthday
DTSTAMP:20181126T200404Z
SEQUENCE:0
UID:18-4-d1077134ae48908c13b71a0233f476d3@www.rebornevo.com
ORGANIZER;CN="Punkeev":admin@rebornevo.com
DESCRIPTION:\n\n	November 13 WW/EN (Scorpio)\n\n\n\n	 \n\n\n\n	\n		\n	\
	n\n\n\n	 \n\n
DTSTART;VALUE=DATE:20181113
END:VEVENT
END:VCALENDAR
