BEGIN:VCALENDAR
VERSION:2.0
PRODID:-//IP.Board Calendar 4.5.4//EN
METHOD:PUBLISH
CALSCALE:GREGORIAN
X-WR-CALNAME:General Information
BEGIN:VTIMEZONE
TZID:Europe/London
TZURL:http://tzurl.org/zoneinfo/Europe/London
X-LIC-LOCATION:Europe/London
BEGIN:DAYLIGHT
TZOFFSETFROM:+0000
TZOFFSETTO:+0100
TZNAME:BST
DTSTART:20180325T020000Z
RRULE:FREQ=YEARLY;BYMONTH=3;BYDAY=-1SU
END:DAYLIGHT
BEGIN:STANDARD
TZOFFSETFROM:+0100
TZOFFSETTO:+0000
TZNAME:GMT
DTSTART:20181028T020000Z
RRULE:FREQ=YEARLY;BYMONTH=10;BYDAY=-1SU
END:STANDARD
END:VTIMEZONE
BEGIN:VEVENT
SUMMARY:Rin Hoshizora's Birthday
DTSTAMP:20181101T114324Z
SEQUENCE:0
UID:15-4-d1077134ae48908c13b71a0233f476d3@www.rebornevo.com
ORGANIZER;CN="Punkeev":admin@rebornevo.com
DESCRIPTION:\n\n	Happy birthday Rin !\n\n\n\n	Did you know Rin was aller
	gic to cats?\n\n\n\n	From official magazine(School idol diary). . . here'
	s the story:\n\n\n\n	 \n\n\n\n	Part 1\n\n\n\n	\n		 \n	\n\n	\n		\n			 \n
			\n\n		\n			 \n		\n\n		\n			\n\n			Whoosh~\n\n\n			A stream of cool air 
	blew out of nowhere.\n\n\n			Strange?\n\n\n			On the way home on a certain
	 day at the end of September…\n\n\n			My body felt weird. As Rin was jus
	t thinking about that…\n\n\n			Ah… ah… ah—\n\n\n			“—achoo!”
	\n\n\n			Heh heh heh\, I sneezed.\n\n\n			Rin rubbed her nose and……\n\
	n\n			“Ah— achoo\, achoo\, achoo\, achoo!”\n\n\n			Rin is one of tho
	se people who sneezes in a row.\n\n\n			If Kayo-chin\, who is always stick
	ing with Rin\, sees Rin sneezing in a row\, she’ll tease her about it to
	o.\n\n\n			She said Rin’s face will scrunch up and she’ll close both e
	yes when she sneezes\; that face looks just like a newborn kitty~ heh heh 
	heh♪\n\n\n			Aw~ Really\, is Rin as cute as a kitty~?♪ Just kidding♥
	\n\n\n			Just as Rin was thinking about these things…\n\n\n			Meow~\n\n\
	n			Ah\, a kitty! Rin heard a meow from a real cat.\n\n\n			“Oh my\, i
	t’s a kitty~ Where are you hiding?”\n\n\n			Rin moved her nose\, which
	 was just sucking up mucus earlier\, and then bent her waist down\, ready 
	to find the kitty~!\n\n\n			Meow~ Meow~\n\n\n			When Rin was looking for i
	t\, Rin could still hear a very weak meowing coming from a certain place.\
	n\n\n			Hm…… it sounds like it’s a really small kitty.\n\n\n			Is it
	 okay\, nya?\n\n\n			Maybe it’s hungry\, nya?\n\n\n			The kitty couldn
	’t have… fainted from the summer heat from a while ago\, got hit by th
	is autumn wind when it hadn’t even recovered\, and then caught a fever?\
	n\n\n			“Okay\, captain! Rin will now begin her journey to find the poor
	 lost kitty!”\n\n\n			Rin saluted\, and then got down on the ground to l
	ook for the kitty.\n\n\n			“Where are you? Where are you\, Rin’s cute 
	little kitty? Don’t be afraid\, come out quickly~”\n\n\n			Speaking of
	 the places nearby that cats often appear\, it’s that dense hedge by the
	 house with the old tiled roof\, or under the cars in the open parking lot
	\, or the super narrow path which is roughly 30cm wide in the middle of a 
	the cement wall in between two houses—\n\n\n			Rustle\, rustle.\n\n\n			
	The uniform’s skirt rubbed against the cement wall and Rin almost got st
	uck\, but Rin still continued to look for the kitty.\n\n\n			Hey~ Come out
	\, come out quickly\, kitty!\n\n\n			Rin can share half of her Pringles ch
	ips with you~\n\n\n			Nyaa~♪\n\n\n			❤❤❤❤❤❤❤\n\n\n			Rin r
	eally loves cats.\n\n\n			Why?\n\n\n			Rin has loved cats ever since she w
	as little.\n\n\n			Probably because they’re really cool?\n\n\n			Like th
	eir soft body\, and the ability to jump really high without a running star
	t.\n\n\n			And even if they fell head first\, they could still do a really
	 cool spin and land on their feet\; as well as their elegant movements\, a
	nd their upright big eyes.\n\n\n			Ah\, they seem to have so much fun play
	ing by themselves\, too.\n\n\n			Rin really loves… all these features of
	 a cat.\n\n\n			Every time that Rin sees a cat\, she can’t help but to s
	tare at them. When Rin was little\, she got lost many times too because sh
	e let go of her mom’s hand to chase after a cat.\n\n\n			Mrow~ Meow\, me
	ow~!\n\n\n			The cats I met by the roadside always had this intriguing loo
	k.\n\n\n			I couldn’t tell if they were interested in Rin or not…\n\n\
	n			Rin tried really hard to imitate their meows to chat with them\; after
	 meowing a few times\, they finally softly responded back to Rin. Although
	 they sound pretty helpless.\n\n\n			Meow~\n\n\n			Even though they’re c
	old\, Rin still felt really happy.\n\n\n			Rin stared at the eyes that fin
	ally responded back to her. Great\, today…… today might be the day I c
	an touch it. Rin slowly approached— but the kitty immediately turned aro
	und and escaped.\n\n\n			Dammit! So close.\n\n\n			Cats’ eyes are just l
	ike big glass marbles\, sparkling and watery. They’re very pretty\, but 
	Rin still doesn’t quite get what are they thinking.\n\n\n			Feels like i
	f I keep staring at their eyes\, I’ll be sucked in\, and it makes Rin th
	inks she has become one of them\, but in the end she still gets straight u
	p dumped by them.\n\n\n			Every time.\n\n\n			Sigh! Rin always thinks abou
	t this every time this happens.\n\n\n			Sigh!\n\n\n			It would be nice if 
	Rin could become one with the cats.\n\n\n			Rin has had this thought ever 
	since she was little. It’s like a one-sided crush that is destined to fa
	il\, nya~\n\n\n			❤❤❤❤❤❤❤\n\n\n			That thing… happened one
	 day when Rin hadn’t even hit ten years old yet.\n\n\n			It was a cold n
	ight in the middle of winter.\n\n\n			Because it was past New Year’s\, t
	he elementary schools’ winter break was about halfway through.\n\n\n			C
	hristmas\, New Year’s Eve\, and the New Year’s days on January 1st to 
	3rd that Rin had been looking forward to had all passed. Rin had become li
	ke a flat soda.\n\n\n			Rolling and rolling and rolling in the room.\n\n\n
				Rice cakes\, New Year’s dishes\, red bean cake soup\, quizzes and pun
	ishment games on New Year’s specials— Rin is tired of them~ As Rin was
	 rolling about with her cheeks puffed up\, a door bell suddenly rang from 
	the entrance.\n\n\n			“Rin-chan\, what… what should we do…“\n\n\n	
			The person who came is none other than Rin’s childhood friend Kayo-chi
	n\; she was wearing a pure white wool hat\, shivering all over.\n\n\n			
	“Whoa~ What’s wrong? Rin wasn’t expecting Kayo-chin at this time. Bu
	t that’s great\, Rin was bored\, so let’s eat some rice cakes and play
	 kids’ mahjong—“\n\n\n			Rin said as she opened the entrance door\, 
	and reached out to pat the wool on Kayo-chin’s hat.\n\n\n			Huh? It’s 
	so cold— it’s snow!\n\n\n			There’s a layer of light snow covering t
	he top of the pure white hat— it’s the snow that fell in large flakes 
	just now.\n\n\n			The huge dark purple and blue sky behind Kayo-chin is ra
	ining white snow that looked like flower petals.\n\n\n			“Ah~ It’s sno
	wing\, it should be getting cold! Hurry up and come in\, Kayo-chin.”\n\n
	\n			Even after Rin finished\, Kayo-chin still hasn’t moved a single ste
	p from the cement floor at the entrance\, shivering as she said:\n\n\n		
		“Rin-chan— what should we do? I think under our house’s storeroom\,
	 there’s a bunch of newborn kittens.”\n\n\n			EEEEHH! Newborn… kitte
	ns?\n\n\n			Rin still remembers even now\, that time she was so shocked he
	r eyes could fly out.\n\n\n			I originally thought Kayo-chin was shivering
	 because of the cold\, but the real reason was not even about the sudden d
	rop in temperature at night. It’s from the surprise of suddenly discover
	ing the newborn litter\, on top of being in the middle of a snowing winter
	— it was from the fear that formed after hearing the energetic meowing s
	lowly becoming weaker and weaker.\n\n\n			“I think a stray cat got into 
	our house and gave birth to them. Even though I could hear them since yest
	erday\, today I noticed their sounds were getting softer… the storeroom 
	is in the very cold north side\, so I think we need to move them to somewh
	ere warmer… but Daddy and Mommy are not home because of work\, and Grand
	pa and Grandma also went to the town council meeting. Rin-chan\, what shou
	ld we do? The kitties’ noises are already so weak\, and it even started 
	snowing now\; if this goes on\, the kitties might…… they might die
	…“\n\n\n			Kayo-chin nearly cried when she finished.\n\n\n			Rin silen
	tly moved close to Kayo-chin and wiped her tears away.\n\n\n			Kayo-chin d
	idn’t stop Rin\, she just closed her eyes holding in her tears.\n\n\n			
	Rin immediately took a scarf from the hangers and wrapped it around Kayo-c
	hin’s neck.\n\n\n			The gloves and feather-woven coat Rin bought during 
	the new year are getting put into use for the first time too!\n\n\n			“M
	ommy\, I’m going to Kayo-chin’s house! There are newborn kittens!”\n
	\n\n			Rin yelled at the entrance\, and closed the door before even receiv
	ing a response. And then immediately inhaled the cold air of the night tha
	t hurts deep inside the nose.\n\n\n			Rin held Kayo-chin’s hand and star
	ted running.\n\n\n			“Let’s go\, Kayo-chin! Super-Fast Express~“\n\n
	\n			Kayo-chin said to Rin who started running:\n\n\n			“Rin…… Rin-c
	han\, wait up. You’re running…… running too fast—“\n\n\n			Even 
	though I can vaguely hear Mommy’s “You’ll disturb people this la
	te\, Rin—“ voice coming from behind Kayo-chin.\n\n\n			But now is not 
	the time for that!\n\n\n			Kayo-chin and cats. Rin’s two most important 
	friends in the world are now in big trouble! Super-Fast Express Number Rin
	\, full speed ahead☆\n\n\n			 \n\n			 \n		\n\n		\n			 \n		\n	\n\n\n\
	n	 \n\n\n\n	 \n\n\n\n	Part 2:\n\n\n\n	\n		 \n	\n\n	\n		\n			 \n		\n\n	
		\n			\n\n			“It’s over there—“\n\n\n			Passing through the old ga
	te with the tiled roof\, Rin followed Kayo-chin’s guidance\, and reached
	 the backyard behind the main house.\n\n\n			Since I’ve been here so man
	y times to play\, to Rin\, Kayo-chin’s backyard is as familiar as Rin’
	s own house. I heard there used to be a warehouse in the backyard\, but no
	w it’s just a really big storeroom.\n\n\n			“Can you hear it?”\n\n\n
				Kayo-chin asked anxiously.\n\n\n			Hm?\n\n\n			Rin lay down on the grou
	nd before the storeroom\, perked her ears up and listened carefully— and
	 heard a really weak noise.\n\n\n			Mew.\n\n\n			Mew mew mew~\n\n\n			
	“It’s true! There really are kittens’ noises!”\n\n\n			It’s al
	so Rin’s first time hearing this kind of sound. So this is what baby kit
	ties sound like— they’re sooo tiny!\n\n\n			The sound was so helpless\
	, weak\, and fragile\, almost as if it would disappear at any moment.\n\n\
	n			Rin took a deep breath— heart pumping wildly.\n\n\n			Rin reached ou
	t her hand to suppress her suddenly increased heartbeat.\n\n\n			“We hav
	e to save them!”\n\n\n			Kayo-chin stared at Rin’s face.\n\n\n			“
	But… how do we save them?”\n\n\n			Her voice started shaking towards t
	he end\; it sounded like she was about to cry.\n\n\n			How do we save them
	?\n\n\n			After being asked\, Rin crossed her arms and just started to thi
	nk.\n\n\n			Hmm…\n\n\n			The storeroom of Kayo-chin’s house is really 
	huge: at first glance\, it looks like a small\, square side room.\n\n\n			
	However\, the entrance is one of those huge board sliding doors with no wi
	ndows\, and there’s only a really small window that you can’t reach on
	 the north side of this building\, kind of like the little window in a res
	troom. There was a huge lock pad on the handle of the door\, and the windo
	w is so tiny and high up that even if we opened up the window\, only kitte
	ns… can actually get through it!\n\n\n			“No keys?”\n\n\n			Hearing 
	Rin asking\, the almost-crying Kayo-chin shook her head.\n\n\n			“Usuall
	y Grandma keeps it\, so Hanayo doesn’t know where she put it.”\n\n\n		
		Kayo-chin sagged her shoulders.\n\n\n			Oh yeah… Rin thought while look
	ing at the only window access into the storeroom.\n\n\n			“This… might
	 do.”\n\n\n			Rin thought of it. If she imitates the cats that she has a
	lways looked up to\, she might be able to get inside.\n\n\n			So then\, Ri
	n took a few steps back\, and lowered her body into a pre-running posture.
	\n\n\n			Okay\, even if knowing this probably doesn’t work\, Rin still w
	ants to try it.\n\n\n			“Go—!”\n\n\n			Rin sprinted\, and high-jumpe
	d towards the north wall.\n\n\n			“Uwaaahhhh~!”\n\n\n			Because Rin ac
	cidentally put in too much force\, she turned around quickly\, to avoid hi
	tting the wall directly with her face— thud!\n\n\n			Rin ended up brutal
	ly hitting the wall with her back.\n\n\n			“Ow ow ow—“\n\n\n			What 
	should I do? I couldn’t even touch the window frame\, let alone getting 
	into the gap in the tiny window.\n\n\n			“All right\, again!”\n\n\n			
	Kayo-chin quickly stopped Rin\, who wanted to sprint again.\n\n\n			“Rin
	-chan\, it’s no use\, you’ll definitely hit the wall again.”\n\n\n
				She’s right\, but if this goes on\, the kittens will…\n\n\n			Rin k
	nows.\n\n\n			Doesn’t matter if it’s human babies or cat babies— bec
	ause their bodies are so small\, if we don’t help keep them warm\, the
	y’ll lose temperature.\n\n\n			The weather is so cold\, so if we don’t
	 get them out soon\, their warmth will get lower and lower\, and the kitte
	ns— they might die!\n\n\n			……\n\n\n			Rin was shocked.\n\n\n			Her 
	heartbeat increased as she thought about it.\n\n\n			Rin silently stared a
	t the snow slowly falling down.\n\n\n			Feels like she can almost hear the
	 loud “whoosh—” sound of a huge snowfall coming from nowhere.\n\n\n	
			But today was a quiet night in January.\n\n\n			And then\, Rin noticed s
	omething.\n\n\n			“Kayo-chin\, what should we do? I couldn’t hear the 
	meows form the kittens since just now!”\n\n\n			Both of us perked up our
	 ears to listen— but we couldn’t pick up anything.\n\n\n			Rin realize
	d what the silence could mean this night\, and started panicking.\n\n\n			
	“Kayo-chin\, what do we do? Kittens…… the kittens—“\n\n\n			Rin 
	was on the edge of crying.\n\n\n			Rin shuffled repeatedly on the spot une
	asily\, even though doing this wouldn’t make the kittens feel any better
	. But…… but but but— what should we do!\n\n\n			At this moment\, Kay
	o-chin hugged Rin tightly.\n\n\n			“Rin-chan\, don’t panic! It’s oka
	y\, because today— I actually couldn’t hear them a few times. They mus
	t be sleeping right now.”\n\n\n			Hearing Kayo-chin’s soothing and gen
	tle voice\, Rin calmed down a bit.\n\n\n			“So… Sorry\, Kayo-chin\, 
	I’m a little nervous… But……”\n\n\n			Seeing Rin’s serious expr
	ession\, Kayo-chin’s expression dimmed slightly.\n\n\n			“Kayo-chin is
	 right\, they probably fell asleep. But it’s nighttime now\, so their so
	und seems to be getting weaker and weaker\, and if we don’t save them 
	now…”\n\n\n			Kayo-chin thoughtfully said:\n\n\n			“I wonder if we c
	an get in from here?”\n\n\n			With that said\, Kayo-chin quietly pointed
	 in the direction she was talking about to Rin— it’s under the floorin
	g.\n\n\n			The old-style storeroom at Kayo-chin’s house has a gap betwee
	n the floor and the ground: a patch of soil with big rocks in it can be se
	en below the flooring from in between the pillars lifting up the storeroom
	.\n\n\n			Then Kayo-chin swiftly lowered her head\, brushing past the door
	 frame\, and looked at the space under the flooring. When she got back up\
	, there were some dirt on her face.\n\n\n			“Urgh\, my arms are not long
	 enough. But they seem to be right down there.”\n\n\n			Rin too quickly 
	laid on the ground\, looking inside.\n\n\n			Deep inside the humid\, pitch
	 black space with a musty smell\, you can hear—\n\n\n			Mew~ Mew~\n\n\n	
			The weak mewing of the kittens.\n\n\n			“—!”\n\n\n			The kittens a
	re in there! Still alive!\n\n\n			Rin is suddenly filled with power.\n\n\n
				“I’m going inside!”\n\n\n			Before Kayo-chin could stop her\, Rin
	 was already twitching her body\, wanting to get deeper—but her shoulder
	s would still get caught\, so she couldn’t proceed at all.\n\n\n			“Th
	is won’t work\, Rin-chan. Not to mention\, it’s so dark down there\, a
	nd there must be a lot of centipedes\, lizards\, and bugs. I think we need
	 to wait for Grandma to get back—”\n\n\n			Mew~ Mew~\n\n\n			At this m
	oment\, the kitten’s mewing suddenly rang in Rin’s mind.\n\n\n			“No
	 way! The kittens might die while we’re waiting!”\n\n\n			The snow tha
	t only started falling just now has already covered the tops of the camell
	ias in the yard of Kayo-chin’s in a thin white blanket.\n\n\n			Seeing t
	his scene\, Kayo-chin shivered a bit.\n\n\n			“If only the kittens… ha
	d a blanket to cover them.”\n\n\n			Hearing Kayo-chin’s mumbling\, Rin
	 suddenly had an idea.\n\n\n			“That’s it!”\n\n\n			Rin took off the
	 sweater she was wearing\, took the dustpan with a long handle used to cle
	an up the snow in the yard\, and rolled up the sweater into a ball\, putti
	ng it at the front of the dustpan.\n\n\n			And then gently sent the dustpa
	n into the gap under the flooring…\n\n\n			“Nya~ Nya~ I’m sending yo
	u kittens a warm blanket~”\n\n\n			“I hope they know that they can use
	 the sweater for warmth…”\n\n\n			I’m not sure when Kayo-chin had cr
	ouched beside Rin\; she also looked worriedly under the flooring.\n\n\n			
	“Nya~ Nya~ Don’t be scared\, it’s warm\; you guys can come into Ri
	n’s brand of kitty blanket\, rest assured. Hang in there—we’ll defin
	itely find a way to get you all out\, so you have to be good and get warme
	d up~“\n\n\n			Rin said in a singing tone\, pushing the dustpan even fur
	ther in—\n\n\n			“Mrow~”\n\n\n			An especially loud meow sounded fro
	m inside.\n\n\n			“Ah!”\n\n\n			“They responded!”\n\n\n			Rin and 
	Kayo-chin both couldn’t help but to look at each other.\n\n\n			Rin temp
	orarily put down the dustpan so as to not frighten them\, and waited quiet
	ly with Kayo-chin. And so we waited— about fifteen minutes.\n\n\n			“I
	 wonder if they took the sweater away already.”\n\n\n			Rin gently pulle
	d out the dustpan.\n\n\n			And the blue sweater Rin put on the dustpan was
	 still on it.\n\n\n			“Mew~ Mew~”\n\n\n			“Mrow~”\n\n\n			A very\,
	 very tiny meow sounded from inside of the sweater.\n\n\n			“Aaaaahhh! T
	he kittens!”\n\n\n			Rin and Kayo-chin couldn’t help but to scream\, a
	nd then quickly covered each other’s mouth afterwards.\n\n\n			At the sa
	me time\, a cat dragged its heavy feet and walked out of the space under t
	he flooring alone— it was the pure white stray cat that often appears ar
	ound here\, Kira-chan (named by Rin).\n\n\n			Kayo-chin softly said in sur
	prise:\n\n\n			“So Kira-chan is their mom…“\n\n\n			Kira-chan looked
	 into Rin’s eyes\, and meowed:\n\n\n			“Mrrrooooow—“\n\n\n			Her v
	oice was very clear.\n\n\n			This was the first time in her life that Rin 
	felt like she understood what a cat was saying.\n\n\n			She said to save h
	er children.\n\n\n			Rin thought she must be saying this. So…\n\n\n			
	“We need to bring them into the house for milk!”\n\n\n			The kittens s
	quished inside the sweater were really light— they looked so tiny and fr
	agile\, and with their pure white fur\, it felt like they could become tra
	nsparent at any moment\, and then disappear\, just like that.\n\n\n			Even
	 though they were so fragile that makes people scared to touch…\n\n\n			
	Rin and Kayo-chin looked at each other\, determined.\n\n\n			Kira-chan wil
	lingly entrusted the cute and tiny animals to us\, so for her\, we have to
	 help these kittens!\n\n\n			After entering the house\, we didn’t take t
	he kittens out from the sweater\, but instead put them in a warm place rig
	ht away to avoid scaring them. Taking a closer look now\, there were five 
	newborn kittens in total. Three of them kept opening and closing their lit
	tle pink mouths\, while the other two hadn’t even opened their eyes yet.
	\n\n\n			This is the first time in Rin’s life… that she’s seeing suc
	h a small life.\n\n\n			“Whoa…“\n\n\n			Rin was so touched that she 
	couldn’t help but to gently poke out her finger\, wanting to caress them
	.\n\n\n			Suddenly\, one of the kittens who still hadn’t opened its eyes
	 yet approached Rin’s finger with its tiny\, tiny mouth.\n\n\n			“Ah! 
	I got licked.”\n\n\n			Rin felt a pinch in her heart— and then\, Rin d
	ecided.\n\n\n			Rin definitely\, definitely…… definitely will save the
	se small kittens!\n\n\n			After declaring that to Kayo-chin\, Rin raised h
	er fist high up to prove her determination\, but then— achoo! Rin sudden
	ly made a huge sneeze\, surprising herself.\n\n\n			Kayo-chin said:\n\n\n	
			“Rin-chan\, you took off your sweater\, so that’s why you sneezed fr
	om the cold. Oh yeah\, just so you don’t catch a fever\, I’ll go make 
	you a cup of hot milk now.”\n\n\n			Wow~ Hot milk♪\n\n\n			Hearing tha
	t Kayo-chin will make Rin a cup of hot milk\, she got really happy.\n\n\n	
			“Kitties\, that’s great— Kayo-chin said she’ll make hot milk f
	or us.”\n\n\n			And then she said to the kittens:\n\n\n			“The sweet h
	ot milk. Just from a little sip\, it will definitely get your spirits up. 
	Rin really likes it too. So you guys should drink more—“\n\n\n			Rin
	 hadn’t finished.\n\n\n			Meow~\n\n\n			The little guy let out a meow.\n
	\n\n			It’s the kitty whose forehead Rin gently touched earlier.\n\n\n
				“Whoa~ He responded to Rin!”\n\n\n			“That’s right\, nya~! You 
	guys should drink more\, nya~! Rin will feed you all a looot of milk\, nya
	~~!”\n\n\n			Rin quickly said\, and they responded once again:\n\n\n			M
	eow~ Meow~ Meow~\n\n\n			The kittens let out a sharp meow with their almos
	t nonexistent voice.\n\n\n			Wow~ Amazing! Amazing! Rin is talking with th
	e kittens!\n\n\n			And then Rin snuggled in a blanket and drank the hot mi
	lk that Kayo-chin prepared with the kittens afterwards\, and tried her bes
	t to chat with the kittens.\n\n\n			Every time Rin let out a “meow”\, 
	the kittens would respond. Using a straw to send the milk into the tiny\, 
	tiny mouths of the tiny kittens\, they seem to be slowly recovering their 
	strength too.\n\n\n			“Nya~ Nya~! Drink more\, nya! Little kittens shoul
	d drink more so you’ll have more energy\, nya! Later\, when you all grow
	 up\, you should play~ with~ Rin~♪ Rin is looking forward to that day to
	o\, nya!”\n\n\n			Seeing Rin meowing nonstop\, Kayo-chin at the side cou
	ldn’t help but to giggle.\n\n\n			—achoo!\n\n\n			Rin sneezed again.\n
	\n\n			Ughh… seems like someone is badmouthing Rin~? As Rin thought abou
	t that\, the telephone in Kayo-chin’s house rang.\n\n\n			“Ahhh\, if
	 it’s Mommy\, help me tell Mommy that I’ll be staying at Kayo-chin’s
	 place today~!”\n\n\n			Rin said\, and quickly snuck back into the blank
	et to pet the kittens’ heads.\n\n\n			“Cute kitties\, come be the chil
	dren of Rin’s household when you grow up. And then Rin will be the kitti
	es’ mom\, nya~♥♥”\n\n\n			❤❤❤❤❤❤❤\n\n\n			After that
	\, even though Rin and Kayo-chin did everything they could to take care of
	 the kittens— we’re not sure if it’s because they were born in the m
	iddle of a winter night that was unsuitable for them\, or if it was due to
	 low temperatures— in the end\, only three out of the five of them survi
	ved.\n\n\n			The ones that didn’t make it were the two that licked Rin
	’s finger with their small mouths— their eyes hadn’t even opened.\n\
	n\n			Rin and Kayo-chin cried to hell and back\, crying and weeping to no 
	end. We dug two graves for the two kittens under the camellia tree later.\
	n\n\n			We even named them Momo and Nana.\n\n\n			The remaining three fina
	lly got through the danger period\, and grew up safely.\n\n\n			But Rin di
	scovered a very important reality\, nya.\n\n\n			That is… “Achoo! Acho
	o! Achoo! Achoo!”\n\n\n			Ever since that snowy night in January\, Rin h
	ad never stopped sneezing.\n\n\n			I thought it was a symptom before a col
	d.\n\n\n			But it wasn’t like that at all\, nya.\n\n\n			Rin went to a n
	earby doctor to run an allergy test\, and the result that came out that ti
	me…\n\n\n			Rin could never forget it\, even now.\n\n\n			“No doubt\
	, she’s allergic to cats.”\n\n\n			Dun dun DUU
	UUNN————————————!\n\n\n			That day was the first t
	ime that Rin experienced what it feels like to “black out”.\n\n\n			Si
	nce Kayo-chin’s grandma has been keeping java sparrows\, they couldn’t
	 take in cats in the first place\, so we were almost certain that we’d b
	ring them back to raise them in Rin’s house—but then this kind of thin
	g happened… Sigh\, what to do?\n\n\n			But as expected…\n\n\n			“I
	t can’t be helped if you’re allergic\, Rin-chan.”\n\n\n			Kayo-chin 
	felt really bad when she said that\, and it was only then that Rin finally
	 came to accept this reality.\n\n\n			Because that time\, Rin had been han
	ging out with the kittens for a while (every day of winter break of course
	\, and Rin went to Kayo-chin’s place straight after school every day for
	 two weeks straight after the school reopened)\, causing her eyes to redde
	n and swell\, and keep sneezing and having a runny nose as well.\n\n\n		
		“Yeah\, Mommy told me it’s about time I give up\, too……”\n\n\n	
			Actually\, Rin has been telling Mommy that it wouldn’t be a problem\, 
	but in the end she had to stop resisting… That day\, Kayo-chin said to t
	he very disappointed Rin with a smile:\n\n\n			“Then\, let’s go look f
	or a new owner for the kitties? If someone nearby is willing to keep them\
	, we can go and visit them again.”\n\n\n			She’s right— Kayo-chin is
	 so smart!\n\n\n			Rin has only been thinking about what to do in her mind
	\, so she didn’t think of this at all\; she couldn’t help but hug Kayo
	-chin happily!\n\n\n			Kitties\, Kayo-chin and Rin will take up the respon
	sibilities of a mom and dad\, and find a suitable new home for you!\n\n\n	
			Even if we don’t live in the same house\, we have to be together forev
	er and ever.\n\n\n			After all\, you all are the kittens Rin and Kayo-chin
	 saved on a snowy night.\n\n\n			Rin will always\, always look over you gu
	ys— and visit you guys sometimes\, nya.\n\n\n			And then\, when Rin grow
	s up and can live on her own\, Rin will cure her allergy and live with the
	 kitties\, nya—!\n\n\n			Heh heh heh♪\n\n\n			In the end\, the three k
	ittens that we looked for a new owner for…\n\n\n			Even though we really
	 wanted someone who lived nearby to take them in\, the dream didn’t come
	 through. In the end\, Kayo-chin’s relative who lives in the outskirts t
	ook them.\n\n\n			I wonder— are they doing well now?\n\n\n			In cat’s 
	age\, they should now be adults\; could they be moms now?\n\
	n\n			❤❤❤❤❤❤❤\n\n\n			Today was just like another day.\n\n\n
				While Rin was so focused on chasing down the cat— the sun had already
	 set silently.\n\n\n			The surroundings were already dark.\n\n\n			Looking
	 up\, you can see that in the still faint\, deep blue sky at the beginning
	 of autumn— there was a bright and thin new moon.\n\n\n			Just like a 
	cat’s deep and mysterious pupil…\n\n\n			“Mrow~ Rin hopes one day sh
	e can become a cat\, nya!”\n\n\n			Rin couldn’t help but yell loudly\,
	 and then she heard a meow responding to Rin from a distance.\n\n\n			“A
	h\, it’s a kitty\, nya!”\n\n\n			Rin declared\, and got down on the gr
	ound to find cats again…\n\n\n			The five kittens Rin saved that day tau
	ght her about the fragility of small life\, and gave Rin a meowing verbal 
	tic.\n		\n\n		\n			 \n		\n\n		\n			\n				Comments ♥ \n			\n		\n\n		\n	
			Rin-chan\, you can’t cure an allergy like you cure a fever… But\, Ha
	nayo couldn’t bring herself to say it at that time. It’s probably beca
	use Rin-chan is that kind of energetic person\, who doesn’t put it on he
	r mind when she sneezes or catches a cold\, so she could still keep her op
	timism even when she heard she has an allergy. If that’s the case— l
	et’s not pay it any heed!\n\nHanayo too believes Rin can become her favo
	urite kitty in the future! Even if you can’t become a kitty\, you can st
	ill cure your allergy! Good luck\, Rin-chan~♥♥♥\n\n			 \n		\n	\n\n	
	\n		Creidt: sid-05-rin-and-kitties-pt-1 \, sid-06-rin-and-kitties-pt-2\
	n	\n\n	\n		 \n	\n\n	\n		\n			 \n		\n\n		\n			\n				 \n			\n\n			\n				\
	n\n\n			\n				 \n			\n		\n	\n\n
DTSTART;VALUE=DATE:20181101
END:VEVENT
END:VCALENDAR
